Workbook
Name fn1_1_1: 'Table 1'!$A$90
Name fn2_2_1: 'Table 2'!$A$66
Name fn5_5_1: 'Table 5'!$A$63

Sheet Summary
A1: Industrial Production and Capacity Utilization: Summary
A2: 산업생산 및 가동: 요약
A4: Seasonally adjusted
A5: 계절조정계열
A6: Industrial production | C6: 2017=100 | I6: Percent change 백분율 변화
C7: 2025 | I7: 2025 | O7: Aug. '24 to
B8: 산업생산 | C8: Mar.[r] | D8: Apr.[r] | E8: May[r] | F8: June[r] | G8: July[r] | H8: Aug.[p] | I8: Mar.[r] | J8: Apr.[r] | K8: May[r] | L8: June[r] | M8: July[r] | N8: Aug.[p] | O8: Aug. '25
A10: Total index | B10: 총지수 | C10: 103.5 | D10: 103.6 | E10: 103.7 | F10: 104.2 | G10: 103.8 | H10: 103.9 | I10: -0.3 | J10: 0.1 | K10: 0 | L10: 0.5 | M10: -0.4 | N10: 0.1 | O10: 0.9
A11: Previous estimates | B11: 이전 예측치 | C11: 103.6 | D11: 103.7 | E11: 103.7 | F11: 104.1 | G11: 104 | I11: -0.2 | J11: 0 | K11: 0.1 | L11: 0.4 | M11: -0.1
A13: Major market groups | B13: 주요 시장그룹
A14: Final Products | B14: 최종제품 | C14: 101.2 | D14: 101.1 | E14: 101.2 | F14: 101.5 | G14: 101.5 | H14: 101.7 | I14: -0.3 | J14: -0.1 | K14: 0.1 | L14: 0.4 | M14: 0 | N14: 0.2 | O14: 0.7
A15: Consumer goods | B15: 소비재 | C15: 101.9 | D15: 101.7 | E15: 101.6 | F15: 102 | G15: 101.7 | H15: 102.1 | I15: -0.9 | J15: -0.2 | K15: -0.1 | L15: 0.4 | M15: -0.2 | N15: 0.4 | O15: -0.2
A16: Business equipment | B16: 사무용 장비 | C16: 95.9 | D16: 96.2 | E16: 97.1 | F16: 97.4 | G16: 97.8 | H16: 97.7 | I16: 1.5 | J16: 0.4 | K16: 0.9 | L16: 0.2 | M16: 0.5 | N16: -0.1 | O16: 4.1
A17: Nonindustrial supplies | B17: 비산업 용품 | C17: 102.4 | D17: 102 | E17: 102 | F17: 102.2 | G17: 101.4 | H17: 101.3 | I17: 0 | J17: -0.4 | K17: -0.1 | L17: 0.2 | M17: -0.8 | N17: -0.1 | O17: 0.3
A18: Construction | B18: 건설용 | C18: 103.4 | D18: 101.9 | E18: 101.9 | F18: 102 | G18: 101.1 | H18: 101.7 | I18: 0.9 | J18: -1.4 | K18: 0 | L18: 0.1 | M18: -0.9 | N18: 0.6 | O18: 1.2
A19: Materials | B19: 자재 | C19: 105.9 | D19: 106.3 | E19: 106.3 | F19: 107.2 | G19: 106.6 | H19: 106.7 | I19: -0.5 | J19: 0.4 | K19: 0 | L19: 0.8 | M19: -0.5 | N19: 0.1 | O19: 1.2
A21: Major industry groups | B21: 주요 산업그룹
A22: Manufacturing (see note below) | B22: 제조업 | C22: 100.2 | D22: 99.7 | E22: 99.9 | F22: 100.1 | G22: 100 | H22: 100.3 | I22: 0.5 | J22: -0.4 | K22: 0.1 | L22: 0.3 | M22: -0.1 | N22: 0.2 | O22: 0.9
A23: Previous estimates | B23: 이전 예측치 | C23: 100.3 | D23: 99.8 | E23: 100 | F23: 100.2 | G23: 100.2 | I23: 0.6 | J23: -0.5 | K23: 0.2 | L23: 0.3 | M23: 0
A24: Mining | B24: 광업 | C24: 121.4 | D24: 121.2 | E24: 121.5 | F24: 122.1 | G24: 120.3 | H24: 121.4 | I24: 1.5 | J24: -0.2 | K24: 0.3 | L24: 0.4 | M24: -1.5 | N24: 0.9 | O24: 1
A25: Utilities | B25: 유틸리티업 | C25: 103.5 | D25: 107.8 | E25: 106.6 | F25: 109.4 | G25: 108.6 | H25: 106.4 | I25: -8.2 | J25: 4.1 | K25: -1.1 | L25: 2.6 | M25: -0.7 | N25: -2 | O25: 0.1
A26: .
A27: Capacity utilization | B27: 가동 | C27: Percent of capacity 가동률 | O27: Capacity
O28: growth 가동 성장률
C29: Average | D29: 1988- | E29: 1990- | F29: 1994-
C30: 1972- | D30: 89 | E30: 91 | F30: 95 | G30: 2009 | H30: 2024 | I30: 2025 | O30: Aug. '24 to
C31: 2024 | D31: high | E31: low | F31: high | G31: low | H31: Aug. | I31: Mar.[r] | J31: Apr.[r] | K31: May[r] | L31: June[r] | M31: July[r] | N31: Aug.[p] | O31: Aug. '25
A33: Total industry | B33: 전산업 | C33: 79.6 | D33: 85.2 | E33: 78.7 | F33: 84.8 | G33: 66.6 | H33: 77.9 | I33: 77.6 | J33: 77.5 | K33: 77.5 | L33: 77.8 | M33: 77.4 | N33: 77.4 | O33: 1.5
A34: Previous estimates | B34: 이전 예측치 | I34: 77.7 | J34: 77.6 | K34: 77.5 | L34: 77.7 | M34: 77.5
A36: Manufacturing (see note below) | B36: 제조업 | C36: 78.2 | D36: 85.5 | E36: 77.1 | F36: 84.4 | G36: 63.5 | H36: 77 | I36: 77 | J36: 76.6 | K36: 76.7 | L36: 76.8 | M36: 76.7 | N36: 76.8 | O36: 1.2
A37: Previous estimates | B37: 이전 예측치 | I37: 77.1 | J37: 76.7 | K37: 76.7 | L37: 76.9 | M37: 76.8
A38: Mining | B38: 광업 | C38: 86.5 | D38: 86.3 | E38: 84.3 | F38: 88.6 | G38: 78.9 | H38: 90.1 | I38: 91 | J38: 90.8 | K38: 91 | L38: 91.3 | M38: 89.9 | N38: 90.6 | O38: 0.4
A39: Utilities | B39: 유틸리티업 | C39: 84.2 | D39: 93.2 | E39: 84.7 | F39: 93.2 | G39: 78.1 | H39: 71.1 | I39: 67.8 | J39: 70.4 | K39: 69.3 | L39: 71 | M39: 70.2 | N39: 68.6 | O39: 3.7
A41: Stage-of-process groups | B41: 공정단계 그룹
A42: Crude | B42: 조제품 | C42: 85.6 | D42: 87.9 | E42: 84.9 | F42: 90 | G42: 77 | H42: 87.5 | I42: 88.1 | J42: 88.4 | K42: 88.2 | L42: 88.6 | M42: 87.5 | N42: 88.2 | O42: 0.6
A43: Primary and semifinished | B43: 1차 및 반제품 | C43: 80.1 | D43: 86.5 | E43: 77.6 | F43: 87.5 | G43: 63.7 | H43: 76.4 | I43: 75.5 | J43: 75.7 | K43: 75.5 | L43: 76 | M43: 75.6 | N43: 75.2 | O43: 1.7
A44: Finished | B44: 완제품 | C44: 76.7 | D44: 83.3 | E44: 77.6 | F44: 80.4 | G44: 66.2 | H44: 75.5 | I44: 75.7 | J44: 75.3 | K44: 75.3 | L44: 75.4 | M44: 75.4 | N44: 75.5 | O44: 1.6
A45: [r] Revised. [p] Preliminary.
A46: r 개정됨. p 잠정치.
A48: Note. The statistics in this release cover output, capacity, and capacity utilization in the U.S. industrial sector, which is defined by the Federal Reserve to comprise manufacturing, mining, and electric and gas utilities. Mining is defined as all industries in sector 21 of the North American Industry Classification System (NAICS); electric and gas utilities are those in NAICS sectors 2211 and 2212. Manufacturing comprises NAICS manufacturing industries (sector 31-33) plus the logging industry and the newspaper, periodical, book, and directory publishing industries. Logging and publishing are classified elsewhere in NAICS (under agriculture and information respectively), but historically they were considered to be manufacturing and were included in the industrial sector under the Standard Industrial Classification (SIC) system. In December 2002 the Federal Reserve reclassified all its industrial output data from the SIC system to NAICS.
A55: 참고. 본 통계는 연방준비제도가 제조업, 광업, 전기 및 가스 유틸리티업을 포함하는 것으로 정의한 미국 산업 부문의 산출량, 생산능력 및 가동을 다룹니다. 광업은 NAICS 섹터 21에 속하는 모든 산업으로 정의되며, 전기 및 가스 유틸리티업은 NAICS 섹터 2211과 2212에 속합니다. 제조업은 NAICS 제조업 (섹터 31-33)과 벌목업 및 신문, 정기 간행물, 서적, 사전 출판업으로 구성됩니다. 벌목업과 출판업은 NAICS (각각 농업과 정보업)으로 분류되지만, 과거에는 제조업으로 간주되었고 SIC에 따라 산업 부문에 포함되었습니다. 2002.12. 연방준비제도는 SIC 시스템의 모든 산업 산출량 자료를 NAICS로 재분류하였습니다.

Sheet Table 1
A1: Table 1 Industrial Production: Market and Industry Group Summary
A2: 산업생산: 시장그룹 및 산업그룹 요약
A4: Percent change, seasonally adjusted
A5: 백분율 변화, 계절조정계열
A6: Item | C6: NAICS | D6: 2024 | E6: Fourth quarter to | H6: Annual rate 연 비율 | K6: Monthly rate 월 비율 | Q6: Aug. '24
D7: Proportion[1] | E7: fourth quarter | Q7: to
D8: 2024. 비율 | E8: 1-4분기대비 | Q8: Aug. '25
H9: 2024 | I9: 2025 | K9: 2025
B10: 품목 | E10: 2022 | F10: 2023 | G10: 2024 | H10: Q4 | I10: Q1[r] | J10: Q2[r] | K10: Mar.[r] | L10: Apr.[r] | M10: May[r] | N10: June[r] | O10: July[r] | P10: Aug.[p]
A12: Total IP | B12: 전산업 생산 | D12: 100 | E12: 1.8 | F12: -0.1 | G12: -0.3 | H12: -1.2 | I12: 4.1 | J12: 1.6 | K12: -0.3 | L12: 0.1 | M12: 0 | N12: 0.5 | O12: -0.4 | P12: 0.1 | Q12: 0.9
A14: MARKET GROUP | B14: 시장그룹
A15: Final products and nonindustrial supplies | B15: 최종제품 및 비산업용품 | D15: 54.44 | E15: 1.9 | F15: -1 | G15: -0.9 | H15: -3.3 | I15: 6.2 | J15: 0.8 | K15: -0.2 | L15: -0.2 | M15: 0 | N15: 0.3 | O15: -0.3 | P15: 0.1 | Q15: 0.6
A16: Consumer goods | B16: 소비재 | D16: 27.76 | E16: 0.6 | F16: -0.6 | G16: -0.5 | H16: -2.3 | I16: 3 | J16: -1.3 | K16: -0.9 | L16: -0.2 | M16: -0.1 | N16: 0.4 | O16: -0.2 | P16: 0.4 | Q16: -0.2
A17: Durable | B17: 내구재 | D17: 5.97 | E17: -1.3 | F17: 0.2 | G17: -4.1 | H17: -3.6 | I17: 0.1 | J17: 1.2 | K17: -0.2 | L17: -1.3 | M17: 1.4 | N17: -1.5 | O17: -0.4 | P17: 0.6 | Q17: -2.4
A18: Automotive products | B18: 자동차제품 | D18: 3.21 | E18: 0.6 | F18: 1.6 | G18: -6.6 | H18: -8.5 | I18: 0.5 | J18: 9.1 | K18: 0.3 | L18: -1.7 | M18: 2.7 | N18: -2.8 | O18: -0.6 | P18: 1.3 | Q18: -3.5
A19: Home electronics | B19: 가전제품 | D19: 0.14 | E19: -0.4 | F19: 20.1 | G19: 6.2 | H19: 7.4 | I19: 6.2 | J19: 4.1 | K19: -1.6 | L19: 0.7 | M19: 2.6 | N19: -0.2 | O19: 2.9 | P19: -1.7 | Q19: 7.2
A20: Appliances, furniture, carpeting | B20: 가정용 기기, 가구 및 카펫 | D20: 0.94 | E20: -9 | F20: -4.6 | G20: -2.5 | H20: 9.3 | I20: -6.2 | J20: -12.6 | K20: -3.2 | L20: -0.6 | M20: 0.7 | N20: 0.2 | O20: -0.1 | P20: 1.9 | Q20: 0
A21: Miscellaneous goods | B21: 기타 생활용품 | D21: 1.68 | E21: -1 | F21: -1.3 | G21: -1.1 | H21: -1.7 | I21: 2.6 | J21: -5 | K21: 0.4 | L21: -1.2 | M21: -0.8 | N21: 0.1 | O21: -0.3 | P21: -1.2 | Q21: -2.1
A22: Nondurable | B22: 비내구재 | D22: 21.79 | E22: 1.2 | F22: -0.8 | G22: 0.5 | H22: -1.9 | I22: 3.8 | J22: -2 | K22: -1 | L22: 0.1 | M22: -0.5 | N22: 0.9 | O22: -0.2 | P22: 0.3 | Q22: 0.4
A23: Non-energy | B23: 비에너지 | D23: 16.19 | E23: 0.6 | F23: -0.3 | G23: 0.3 | H23: -2.6 | I23: 2.4 | J23: 0.2 | K23: 1 | L23: -0.8 | M23: -0.5 | N23: 0.6 | O23: -0.2 | P23: 0.4 | Q23: 0.5
A24: Foods and tobacco | B24: 식료품 및 담배 | D24: 9.69 | E24: -0.4 | F24: -1.4 | G24: -2.1 | H24: -2.9 | I24: 1.5 | J24: 1.3 | K24: 0.8 | L24: -0.8 | M24: 0.2 | N24: 0.5 | O24: -0.6 | P24: 0.3 | Q24: 0.2
A25: Clothing | B25: 의류 | D25: 0.15 | E25: -0.7 | F25: -10 | G25: -9.5 | H25: -16.6 | I25: 12 | J25: -3.8 | K25: 1.1 | L25: -3.3 | M25: 2.7 | N25: -0.8 | O25: -1.1 | P25: 1.2 | Q25: -2.5
A26: Chemical products | B26: 화학제품 | D26: 5.2 | E26: 3.2 | F26: 3.1 | G26: 6.5 | H26: -1.7 | I26: 5 | J26: -0.2 | K26: 1.3 | L26: -0.5 | M26: -1.8 | N26: 1.1 | O26: 0.4 | P26: 0.7 | Q26: 1.7
... A49: Energy | B49: 에너지 | D49: 18.35 | E49: 5.3 | F49: 2.7 | G49: 0.6 | H49: 0.7 | I49: 3.4 | J49: 1.6 | K49: -1.5 | L49: 1 | M49: -0.1 | N49: 1.3 | O49: -1 | P49: 0 | Q49: 0.8
A52: INDUSTRY GROUP | B52: 산업그룹
A53: Manufacturing | B53: 제조업 | D53: 74.78 | E53: 0.5 | F53: -0.4 | G53: -0.5 | H53: -1.7 | I53: 3.4 | J53: 1.9 | K53: 0.5 | L53: -0.4 | M53: 0.1 | N53: 0.3 | O53: -0.1 | P53: 0.2 | Q53: 0.9
A54: Manufacturing (NAICS) | B54: 제조업 (NAICS) | C54: 31-33 | D54: 73.29 | E54: 0.6 | F54: -0.3 | G54: -0.4 | H54: -1.4 | I54: 3.4 | J54: 2.2 | K54: 0.6 | L54: -0.4 | M54: 0.2 | N54: 0.2 | O54: -0.1 | P54: 0.2 | Q54: 1.1
A56: Durable manufacturing | B56: 내구재 제조업 | D56: 36.99 | E56: 2.3 | F56: -0.4 | G56: -1.6 | H56: -3.7 | I56: 7 | J56: 3.5 | K56: 0.5 | L56: -0.3 | M56: 0.6 | N56: -0.2 | O56: 0.3 | P56: 0.2 | Q56: 1.5
A57: Wood products | B57: 나무제품 제조업 | C57: 321 | D57: 1.63 | E57: -4.5 | F57: -1.4 | G57: 1.8 | H57: 7 | I57: -1.2 | J57: -4.4 | K57: -1.5 | L57: -1.3 | M57: 1.6 | N57: -1.9 | O57: 0 | P57: 0.6 | Q57: 0.2
A58: Nonmetallic mineral products | B58: 비금속 광물제품 제조업 | C58: 327 | D58: 2.3 | E58: 4.4 | F58: -3 | G58: -2.6 | H58: 4.2 | I58: 5.5 | J58: -12.6 | K58: 0.4 | L58: -2.3 | M58: -1.6 | N58: -1.4 | O58: 0.2 | P58: 1.2 | Q58: -0.6
A59: Primary metals | B59: 1차 금속 제조업 | C59: 331 | D59: 2.69 | E59: -5.2 | F59: 1.9 | G59: -2 | H59: -5.2 | I59: 7.3 | J59: 3.1 | K59: 1.1 | L59: -0.1 | M59: -0.8 | N59: 2.9 | O59: 0.3 | P59: 0.4 | Q59: 2.9
A60: Fabricated metal products | B60: 금속가공제품 제조업 | C60: 332 | D60: 6.14 | E60: 1.9 | F60: -1.8 | G60: -1.6 | H60: -2.4 | I60: -0.1 | J60: 5.2 | K60: 0.4 | L60: 1.4 | M60: -0.8 | N60: -0.1 | O60: 0.3 | P60: -0.1 | Q60: 0.8
A61: Machinery | B61: 기계 제조업 | C61: 333 | D61: 5.69 | E61: 3.4 | F61: -3.6 | G61: -0.6 | H61: -0.5 | I61: 6.5 | J61: 0.4 | K61: 0.9 | L61: -0.5 | M61: -0.4 | N61: 1.2 | O61: -0.3 | P61: -0.5 | Q61: 1.9
A62: Computer and electronic products | B62: 컴퓨터 및 전자제품 제조업 | C62: 334 | D62: 4.43 | E62: 0.6 | F62: 2.9 | G62: 4.6 | H62: 4.3 | I62: 10.2 | J62: 5.4 | K62: 0.7 | L62: 0.4 | M62: 0.5 | N62: 0.1 | O62: 1 | P62: 0.5 | Q62: 6.7
A63: Electrical equip., appliances, | B63: 전기장비, 전기용품 및 전자부품 제조업 | C63: 335 | D63: 2.19 | E63: 2.7 | F63: -1.2 | G63: 2.6 | H63: -3.1 | I63: 1 | J63: -6.2 | K63: -0.9 | L63: -1.9 | M63: 2.5 | N63: -3.4 | O63: 0.6 | P63: -1.5 | Q63: -5.7
A64: and components
A65: Motor vehicles and parts | B65: 자동차 및 자동차부품 제조업 | C65: 3361-3 | D65: 5.36 | E65: 5.8 | F65: 1.6 | G65: -3.5 | H65: -6.2 | I65: 0.3 | J65: 16.9 | K65: 0.2 | L65: -1.4 | M65: 4.5 | N65: -2.6 | O65: -0.7 | P65: 2.6 | Q65: 1.1
A66: Aerospace and miscellaneous | B66: 항공우주 및 기타 운송장비 제조업 | C66: 3364-9 | D66: 3.01 | E66: 9.7 | F66: 3 | G66: -9.9 | H66: -29.2 | I66: 62 | J66: 15.4 | K66: 1.8 | L66: 1.1 | M66: 0.5 | N66: 1.7 | O66: 1.5 | P66: -0.6 | Q66: 6
A67: transportation equipment
A68: Furniture and related products | B68: 가구 및 관련 제품 제조업 | C68: 337 | D68: 0.96 | E68: -3.5 | F68: -10.5 | G68: -3.6 | H68: -5.6 | I68: -3.2 | J68: 3.9 | K68: -0.7 | L68: 1.2 | M68: 0.5 | N68: 1.1 | O68: 1.2 | P68: -1.7 | Q68: -1.6
A69: Miscellaneous | B69: 기타 제품 제조업 | C69: 339 | D69: 2.59 | E69: 3.6 | F69: 0.7 | G69: -4.5 | H69: 0.8 | I69: -0.9 | J69: -6.3 | K69: 0.4 | L69: -1 | M69: -1.1 | N69: -0.5 | O69: 0.9 | P69: -1.7 | Q69: -1.8
A71: Nondurable manufacturing | B71: 비내구재 제조업 | D71: 36.29 | E71: -1.1 | F71: -0.1 | G71: 0.9 | H71: 0.9 | I71: -0.2 | J71: 1 | K71: 0.6 | L71: -0.5 | M71: -0.2 | N71: 0.7 | O71: -0.5 | P71: 0.3 | Q71: 0.7
A72: Food, beverage, and tobacco products | B72: 식료품, 음료 및 담배 제조업 | C72: 311,2 | D72: 12.06 | E72: 0 | F72: -1.4 | G72: -1.8 | H72: -2.4 | I72: 1.2 | J72: 1.1 | K72: 0.7 | L72: -0.6 | M72: 0.1 | N72: 0.5 | O72: -0.6 | P72: 0.2 | Q72: 0.2
A73: Textile and product mills | B73: 섬유 및 관련 제품 제조업 | C73: 313,4 | D73: 0.52 | E73: -9.6 | F73: -6.5 | G73: -0.6 | H73: -3.9 | I73: 1.5 | J73: 0 | K73: -0.8 | L73: -0.1 | M73: 0.6 | N73: -0.1 | O73: -0.5 | P73: 2.5 | Q73: -0.1
A74: Apparel and leather | B74: 의복 및 가죽 제조업 | C74: 315,6 | D74: 0.17 | E74: 0.2 | F74: -8.8 | G74: -8.6 | H74: -15.2 | I74: 11.4 | J74: -3.1 | K74: 1.2 | L74: -3.6 | M74: 2.9 | N74: -0.4 | O74: -1.4 | P74: 1.4 | Q74: -2.1
A75: Paper | B75: 종이 제조업 | C75: 322 | D75: 2.21 | E75: -6 | F75: -3.3 | G75: 1.4 | H75: 1.3 | I75: -3.6 | J75: -3.1 | K75: -0.2 | L75: -1 | M75: 0 | N75: 2.2 | O75: -0.6 | P75: -0.5 | Q75: -0.8
A76: Printing and support | B76: 인쇄업 및 관련 지원업 | C76: 323 | D76: 1.35 | E76: 1.2 | F76: -10.2 | G76: 3.9 | H76: -6 | I76: 5 | J76: -2.9 | K76: -1 | L76: 0.2 | M76: -0.6 | N76: 0.2 | O76: -1.2 | P76: -0.3 | Q76: -2.6
A77: Petroleum and coal products | B77: 석유 및 석탄제품 제조업 | C77: 324 | D77: 4.2 | E77: -2.6 | F77: 3.9 | G77: 1.9 | H77: 6.5 | I77: -5.7 | J77: -0.6 | K77: -0.1 | L77: -1.4 | M77: 1.7 | N77: 0.9 | O77: -0.8 | P77: 1.6 | Q77: 1.4
A78: Chemicals | B78: 의학물질 제조업 | C78: 325 | D78: 12.11 | E78: -1.3 | F78: 2.1 | G78: 4.8 | H78: 6.6 | I78: 0.2 | J78: 2 | K78: 0.9 | L78: -0.2 | M78: -1.1 | N78: 1.1 | O78: 0.1 | P78: 0.3 | Q78: 3
A79: Plastics and rubber products | B79: 플라스틱 및 고무제품 제조업 | C79: 326 | D79: 3.67 | E79: 0.2 | F79: 0.3 | G79: -4.2 | H79: -8 | I79: 0.1 | J79: 3.2 | K79: 1.6 | L79: -0.3 | M79: -0.5 | N79: -0.3 | O79: -1.5 | P79: -0.7 | Q79: -3.9
A81: Other manufacturing (non-NAICS) | B81: 기타 제조업 (비 NAICS) | C81: 1133,5111 | D81: 1.5 | E81: -1.6 | F81: -8.1 | G81: -6 | H81: -13.2 | I81: 2.9 | J81: -14.1 | K81: -1 | L81: -2.8 | M81: -2.2 | N81: 0.6 | O81: -0.9 | P81: 0.4 | Q81: -7.3
A83: Mining | B83: 광업 | C83: 21 | D83: 14.37 | E83: 6.2 | F83: 2.6 | G83: -0.5 | H83: 0.9 | I83: 0 | J83: 7 | K83: 1.5 | L83: -0.2 | M83: 0.3 | N83: 0.4 | O83: -1.5 | P83: 0.9 | Q83: 1
A84: Utilities | B84: 유틸리티업 | C84: 2211,2 | D84: 10.85 | E84: 4.1 | F84: -1.2 | G84: 1.4 | H84: -0.6 | I84: 14.6 | J84: -7.4 | K84: -8.2 | L84: 4.1 | M84: -1.1 | N84: 2.6 | O84: -0.7 | P84: -2 | Q84: 0.1
A85: Electric | B85: 전기 | C85: 2211 | D85: 9.54 | E85: 2.6 | F85: 0.1 | G85: 2 | H85: 3 | I85: 11.9 | J85: -6.6 | K85: -6.7 | L85: 3.5 | M85: -1.2 | N85: 2.1 | O85: -0.1 | P85: -2.3 | Q85: 0.8
A86: Natural gas | B86: 천연가스 | C86: 2212 | D86: 1.31 | E86: 13.3 | F86: -8.7 | G86: -2.6 | H86: -23.2 | I86: 36.4 | J86: -13.5 | K86: -18.3 | L86: 9.1 | M86: -0.3 | N86: 6.1 | O86: -4.9 | P86: 0.2 | Q86: -4.5
A87: [r] Revised. [p] Preliminary.
A88: =HLOOKUP(A87,Summary!45:46,2,0) -> r 개정됨. p 잠정치.
A90: [1] The proportion data are the relative weights for the rates of change for each series in the computation of the change in total industrial production in the following year.
A92: 1. 비율자료는 다음 해 전산업 생산를 계산할 때 각 계열의 변화율에 대한 상대적 가중치를 나타냅니다.
A94: Note. Under industry groups, the figures to the right of the series descriptions are 2017 North American Industry Classification System (NAICS) codes. The abbreviation pt denotes part of a NAICS code. Additional industry detail is available on the Board's website (www.federalreserve.gov/releases/G17/20250916/default_sup.htm). Under market groups, in the products category, miscellaneous consumer nondurables, oil and gas well drilling, and manufactured homes are not shown separately; in the nondurable materials category, containers and miscellaneous nondurable materials are not shown separately.
A101: 참고. 산업그룹에서 계열 설명 오른쪽에 있는 수치는 2017년 북미산업분류시스템(NAICS) 코드입니다. 약어 pt는 NAICS 코드의 일부를 나타냅니다. 추가 산업정보는 위원회 웹사이트에서 확인할 수 있습니다. 시장 그룹에서 제품 범주의 기타 소비재 비내구재, 석유 및 가스 시추, 조립식 주택은 별도로 표시되지 않습니다. 비내구재 범주에서 컨테이너 및 기타 비내구재는 별도로 표시되지 않습니다.

Sheet Table 2
A1: Table 2 Industrial Production: Special Aggregates and Selected Detail
A2: 산업생산: 특수집합 및 세부사항
A4: Percent change, seasonally adjusted
A5: 백분율 변화, 계절조정계열
A6: Item | C6: NAICS | D6: 2024 | E6: Fourth quarter to | H6: Annual rate 연 비율 | K6: Monthly rate 월 비율 | Q6: Aug. '24
D7: Proportion | E7: fourth quarter | Q7: to
D8: 2024. 비율 | E8: 1-4분기대비 | Q8: Aug. '25
H9: 2024 | I9: 2025 | K9: 2025
B10: 품목 | E10: 2022 | F10: 2023 | G10: 2024 | H10: Q4 | I10: Q1[r] | J10: Q2[r] | K10: Mar.[r] | L10: Apr.[r] | M10: May[r] | N10: June[r] | O10: July[r] | P10: Aug.[p]
A12: Total industry | B12: 전산업 | D12: 100 | E12: 1.8 | F12: -0.1 | G12: -0.3 | H12: -1.2 | I12: 4.1 | J12: 1.6 | K12: -0.3 | L12: 0.1 | M12: 0 | N12: 0.5 | O12: -0.4 | P12: 0.1 | Q12: 0.9
A14: Energy | B14: 에너지 | D14: 27.31 | E14: 5.1 | F14: 1.3 | G14: 0.8 | H14: 0.7 | I14: 4.1 | J14: -0.3 | K14: -2.7 | L14: 1.5 | M14: -0.1 | N14: 1.3 | O14: -0.8 | P14: -0.1 | Q14: 0.7
A15: Consumer products | B15: 소비재 | D15: 5.6 | E15: 2.5 | F15: -2 | G15: 1.1 | H15: 0.1 | I15: 8.2 | J15: -8.2 | K15: -6.6 | L15: 2.9 | M15: -0.6 | N15: 1.5 | O15: 0 | P15: 0 | Q15: 0.3
A16: Commercial products | B16: 상업용 제품 | D16: 2.82 | E16: 6.3 | F16: 0.4 | G16: 3.6 | H16: 3.8 | I16: 2.7 | J16: 6.2 | K16: -2.8 | L16: 2.7 | M16: 1.2 | N16: 1 | O16: -0.9 | P16: -1.2 | Q16: 2.1
A17: Oil and gas well drilling | B17: 석유 및 가스 시추 | C17: 213111 | D17: 0.54 | E17: 21.4 | F17: -7.9 | G17: -9.2 | H17: -11.5 | I17: -6.6 | J17: -11.1 | K17: 0.9 | L17: -1.7 | M17: -2.6 | N17: -0.6 | O17: -2.1 | P17: 1.9 | Q17: -8.5
A18: Converted fuel | B18: 전환 연료 | D18: 5.3 | E18: 3.3 | F18: 2.4 | G18: 1.8 | H18: 1.9 | I18: 8.8 | J18: -8 | K18: -8.3 | L18: 2.4 | M18: 1 | N18: 1.9 | O18: -0.1 | P18: -1.3 | Q18: 1.6
A19: Primary energy | B19: 1차 에너지 | D19: 13.05 | E19: 6 | F19: 2.9 | G19: 0 | H19: 0.3 | I19: 1.3 | J19: 5.7 | K19: 1.4 | L19: 0.5 | M19: -0.6 | N19: 1 | O19: -1.4 | P19: 0.6 | Q19: 0.5
A21: Non-energy | B21: 비에너지 | D21: 72.69 | E21: 0.5 | F21: -0.6 | G21: -0.7 | H21: -1.9 | I21: 4.1 | J21: 2.3 | K21: 0.6 | L21: -0.4 | M21: 0.1 | N21: 0.3 | O21: -0.2 | P21: 0.2 | Q21: 1
A22: Selected high-technology industries | B22: 특정 첨단기술 산업 | D22: 1.89 | E22: 6.5 | F22: 7.8 | G22: 7.5 | H22: 6.9 | I22: 17.6 | J22: 14.5 | K22: -0.4 | L22: 2.6 | M22: 1.5 | N22: -0.4 | O22: 4.4 | P22: -0.1 | Q22: 13.8
A23: Computers and peripheral equipment | B23: 컴퓨터 및 주변 장치 | C23: 3341 | D23: 0.23 | E23: 8.2 | F23: 6.9 | G23: 8.4 | H23: 17.7 | I23: 18.1 | J23: 11.1 | K23: -0.6 | L23: 0.5 | M23: 3.8 | N23: -0.6 | O23: 3.4 | P23: -2.4 | Q23: 14.6
A24: Communications equipment | B24: 통신 장비 | C24: 3342 | D24: 0.41 | E24: 10.4 | F24: 14.3 | G24: 6.5 | H24: 6.1 | I24: 5.3 | J24: 5.9 | K24: 0.4 | L24: 0.6 | M24: 0.4 | N24: 0.5 | O24: 0.5 | P24: 0.5 | Q24: 6
A25: Semiconductors and related | B25: 반도체 및 관련 전자부품 | C25: 3344 | D25: 1.26 | E25: 5 | F25: 5.9 | G25: 7.7 | H25: 5.4 | I25: 21.6 | J25: 17.9 | K25: -0.6 | L25: 3.6 | M25: 1.4 | N25: -0.7 | O25: 5.8 | P25: 0.1 | Q25: 16.2
A26: electronic components
A28: Excluding selected high-technology | B28: 특정 첨단기술 산업 제외 | D28: 70.79 | E28: 0.3 | F28: -0.8 | G28: -0.9 | H28: -2.1 | I28: 3.7 | J28: 1.9 | K28: 0.6 | L28: -0.5 | M28: 0.1 | N28: 0.3 | O28: -0.3 | P28: 0.2 | Q28: 0.6
A29: industries
A31: Motor vehicles and parts | B31: 자동차 및 자동차부품 | C31: 3361-3 | D31: 5.36 | E31: 5.8 | F31: 1.6 | G31: -3.5 | H31: -6.2 | I31: 0.3 | J31: 16.9 | K31: 0.2 | L31: -1.4 | M31: 4.5 | N31: -2.6 | O31: -0.7 | P31: 2.6 | Q31: 1.1
A32: Motor vehicles | B32: 자동차 | C32: 3361 | D32: 2.54 | E32: 11 | F32: 1.3 | G32: -4.1 | H32: -8.4 | I32: -0.1 | J32: 27.5 | K32: -0.1 | L32: -1.8 | M32: 7.8 | N32: -4.8 | O32: 0.3 | P32: 4.5 | Q32: 3.3
A33: Motor vehicle parts | B33: 자동차부품 | C33: 3363 | D33: 2.3 | E33: 7.3 | F33: 2.7 | G33: -0.6 | H33: -2.1 | I33: -5 | J33: 12.1 | K33: -0.4 | L33: -0.7 | M33: 3.5 | N33: -1.1 | O33: -1.5 | P33: 1.8 | Q33: 0.6
A35: Excluding motor vehicles and parts | B35: 자동차 및 자동차부품 제외 | D35: 65.43 | E35: -0.1 | F35: -1 | G35: -0.7 | H35: -1.8 | I35: 4 | J35: 0.8 | K35: 0.7 | L35: -0.5 | M35: -0.3 | N35: 0.5 | O35: -0.3 | P35: 0 | Q35: 0.6
A36: Consumer goods | B36: 소비재 | D36: 19.37 | E36: -0.1 | F36: -0.6 | G36: -0.2 | H36: -2.1 | I36: 1.9 | J36: -1 | K36: 0.7 | L36: -0.8 | M36: -0.5 | N36: 0.6 | O36: -0.3 | P36: 0.3 | Q36: 0
A37: Business equipment | B37: 사무용 장비 | D37: 7.28 | E37: 6 | F37: -3 | G37: -6.4 | H37: -15.5 | I37: 24 | J37: 9.1 | K37: 1.6 | L37: 0.5 | M37: 0.2 | N37: 0.6 | O37: 0.3 | P37: -0.7 | Q37: 2.5
A38: Construction supplies | B38: 건설용 자재 | D38: 5.22 | E38: -1.8 | F38: -1.5 | G38: 0.1 | H38: 1.6 | I38: 6.6 | J38: -1.4 | K38: 0.9 | L38: -1.4 | M38: -0.1 | N38: 0.1 | O38: -0.9 | P38: 0.6 | Q38: 1.2
A39: Business supplies | B39: 사무용 자재 | D39: 7.31 | E39: 0.7 | F39: -2.8 | G39: -0.9 | H39: -2.7 | I39: 2.8 | J39: -3.3 | K39: 0.4 | L39: -0.9 | M39: -0.6 | N39: 0 | O39: -1 | P39: -0.1 | Q39: -1.7
A40: Materials | B40: 자재 | D40: 24.45 | E40: -1.9 | F40: -0.6 | G40: 0.2 | H40: 2 | I40: 0.2 | J40: 1.7 | K40: 0.4 | L40: -0.1 | M40: -0.2 | N40: 0.6 | O40: -0.3 | P40: -0.1 | Q40: 1
A42: Measures excluding selected high-technology | B42: 특정 첨단기술 산업 제외
A43: industries
A44: Total industry | B44: 전산업 | D44: 98.11 | E44: 1.7 | F44: -0.3 | G44: -0.4 | H44: -1.4 | I44: 3.8 | J44: 1.3 | K44: -0.3 | L44: 0 | M44: 0 | N44: 0.6 | O44: -0.5 | P44: 0.1 | Q44: 0.6
A45: Manufacturing[1] | B45: 제조업 | D45: 72.89 | E45: 0.4 | F45: -0.6 | G45: -0.7 | H45: -1.9 | I45: 3 | J45: 1.6 | K45: 0.5 | L45: -0.5 | M45: 0.1 | N45: 0.3 | O45: -0.2 | P45: 0.2 | Q45: 0.6
A46: Durable | B46: 내구재 | D46: 35.23 | E46: 2 | F46: -0.9 | G46: -2.2 | H46: -4.2 | I46: 6.4 | J46: 2.9 | K46: 0.5 | L46: -0.4 | M46: 0.5 | N46: -0.2 | O46: 0.1 | P46: 0.2 | Q46: 0.9
A48: Measures excluding motor vehicles and parts | B48: 자동차 및 자동차부품 제외
A49: Total industry | B49: 전산업 | D49: 94.64 | E49: 1.6 | F49: -0.2 | G49: -0.1 | H49: -0.9 | I49: 4.3 | J49: 0.8 | K49: -0.3 | L49: 0.2 | M49: -0.2 | N49: 0.7 | O49: -0.4 | P49: 0 | Q49: 0.9
A50: Manufacturing[1] | B50: 제조업 | D50: 69.42 | E50: 0.1 | F50: -0.6 | G50: -0.3 | H50: -1.3 | I50: 3.6 | J50: 0.9 | K50: 0.6 | L50: -0.4 | M50: -0.2 | N50: 0.5 | O50: -0.1 | P50: 0.1 | Q50: 0.9
A51: Durable | B51: 내구재 | D51: 31.76 | E51: 1.7 | F51: -0.8 | G51: -1.4 | H51: -3.2 | I51: 8.2 | J51: 1.5 | K51: 0.5 | L51: -0.1 | M51: -0.1 | N51: 0.2 | O51: 0.5 | P51: -0.2 | Q51: 1.6
A53: Measures excluding selected high-technology | B53: 특정 첨단기술 산업과 자동차 및 자동차부품 제외
A54: industries and motor vehicles and parts
A55: Total industry | B55: 전산업 | D55: 92.74 | E55: 1.5 | F55: -0.3 | G55: -0.3 | H55: -1.1 | I55: 4 | J55: 0.5 | K55: -0.3 | L55: 0.1 | M55: -0.2 | N55: 0.7 | O55: -0.5 | P55: 0 | Q55: 0.6
A56: Manufacturing[1] | B56: 제조업 | D56: 67.53 | E56: -0.1 | F56: -0.8 | G56: -0.5 | H56: -1.6 | I56: 3.2 | J56: 0.5 | K56: 0.6 | L56: -0.5 | M56: -0.2 | N56: 0.5 | O56: -0.2 | P56: 0.1 | Q56: 0.6
A58: Stage-of-process components | B58: 비에너지 자재의 공정단계 구성요소, 투입
A59: of non-energy materials,
A60: measures of the input to
A61: Finished processors | B61: 완제품 가공업체 | D61: 9.34 | E61: 1.5 | F61: 0.1 | G61: 1.1 | H61: -1 | I61: 3.5 | J61: 3.8 | K61: 0.1 | L61: -0.3 | M61: 0.9 | N61: 0.1 | O61: 0.4 | P61: 0.3 | Q61: 2.1
A62: Primary and semifinished processors | B62: 1차 및 반제품 가공업체 | D62: 17.87 | E62: -2 | F62: -0.2 | G62: 0.1 | H62: 3.4 | I62: -1.1 | J62: 2.8 | K62: 0.4 | L62: 0.1 | M62: -0.3 | N62: 0.6 | O62: -0.4 | P62: -0.1 | Q62: 1.1
A63: [r] Revised. [p] Preliminary.
A64: =HLOOKUP(A63,'Table 1'!87:88,2,0) -> r 개정됨. p 잠정치.
A66: [1] The composition of manufacturing is specified in a note for the summary table.
A67: 1. 제조업 구성은 요약표의 주석에 명시되어 있습니다.

Sheet Table 4
A1: Table 4 Industrial Production Indexes: Market and Industry Group Summary
A2: 산업생산지수: 시장그룹 및 산업그룹 요약
A4: 2017 = 100, seasonally adjusted
A5: 2017=100, 계절조정계열
A6: Item | C6: NAICS | D6: 2024 | E6: 2024 | F6: 2025
B7: 품목 | D7: Proportion 2024. 비율 | E7: Dec. | F7: Jan. | G7: Feb. | H7: Mar.[r] | I7: Apr.[r] | J7: May[r] | K7: June[r] | L7: July[r] | M7: Aug.[p]
A9: Total IP | B9: =VLOOKUP(A9,'Table 1'!A:B,2,0) -> 전산업 생산 | D9: 100 | E9: 103 | F9: 102.9 | G9: 103.9 | H9: 103.5 | I9: 103.6 | J9: 103.7 | K9: 104.2 | L9: 103.8 | M9: 103.9
A11: MARKET GROUP | B11: =VLOOKUP(A11,'Table 1'!A:B,2,0) -> 시장그룹
A12: Final products and nonindustrial supplies | B12: =VLOOKUP(A12,'Table 1'!A:B,2,0) -> 최종제품 및 비산업용품 | D12: 54.44 | E12: 100.4 | F12: 100.6 | G12: 101.7 | H12: 101.6 | I12: 101.4 | J12: 101.4 | K12: 101.7 | L12: 101.5 | M12: 101.6
A13: Consumer goods | B13: =VLOOKUP(A13,'Table 1'!A:B,2,0) -> 소비재 | D13: 27.76 | E13: 101.7 | F13: 101.6 | G13: 102.8 | H13: 101.9 | I13: 101.7 | J13: 101.6 | K13: 102 | L13: 101.7 | M13: 102.1
A14: Durable | B14: =VLOOKUP(A14,'Table 1'!A:B,2,0) -> 내구재 | D14: 5.97 | E14: 100.7 | F14: 98.6 | G14: 102.7 | H14: 102.5 | I14: 101.1 | J14: 102.5 | K14: 101 | L14: 100.7 | M14: 101.3
A15: Automotive products | B15: =VLOOKUP(A15,'Table 1'!A:B,2,0) -> 자동차제품 | D15: 3.21 | E15: 99.6 | F15: 95.1 | G15: 103.8 | H15: 104.2 | I15: 102.4 | J15: 105.2 | K15: 102.2 | L15: 101.6 | M15: 102.9
A16: Home electronics | B16: =VLOOKUP(A16,'Table 1'!A:B,2,0) -> 가전제품 | D16: 0.14 | E16: 206.1 | F16: 209.5 | G16: 207.8 | H16: 204.4 | I16: 205.9 | J16: 211.2 | K16: 210.7 | L16: 216.9 | M16: 213.1
A17: Appliances, furniture, carpeting | B17: =VLOOKUP(A17,'Table 1'!A:B,2,0) -> 가정용 기기, 가구 및 카펫 | D17: 0.94 | E17: 84.4 | F17: 84.8 | G17: 82 | H17: 79.4 | I17: 78.9 | J17: 79.5 | K17: 79.6 | L17: 79.6 | M17: 81.2
A18: Miscellaneous goods | B18: =VLOOKUP(A18,'Table 1'!A:B,2,0) -> 기타 생활용품 | D18: 1.68 | E18: 105.7 | F18: 106.2 | G18: 106.7 | H18: 107.1 | I18: 105.9 | J18: 105 | K18: 105.1 | L18: 104.8 | M18: 103.6
A19: Nondurable | B19: =VLOOKUP(A19,'Table 1'!A:B,2,0) -> 비내구재 | D19: 21.79 | E19: 101.9 | F19: 102.4 | G19: 102.8 | H19: 101.7 | I19: 101.8 | J19: 101.3 | K19: 102.2 | L19: 102 | M19: 102.3
A20: Non-energy | B20: =VLOOKUP(A20,'Table 1'!A:B,2,0) -> 비에너지 | D20: 16.19 | E20: 101 | F20: 100.9 | G20: 101.9 | H20: 102.9 | I20: 102 | J20: 101.5 | K20: 102.2 | L20: 101.9 | M20: 102.4
A21: Foods and tobacco | B21: =VLOOKUP(A21,'Table 1'!A:B,2,0) -> 식료품 및 담배 | D21: 9.69 | E21: 97.3 | F21: 96.4 | G21: 97.2 | H21: 98 | I21: 97.3 | J21: 97.4 | K21: 97.9 | L21: 97.3 | M21: 97.6
A22: Clothing | B22: =VLOOKUP(A22,'Table 1'!A:B,2,0) -> 의류 | D22: 0.15 | E22: 74.4 | F22: 75.9 | G22: 76.3 | H22: 77.1 | I22: 74.6 | J22: 76.6 | K22: 76 | L22: 75.2 | M22: 76.1
A23: Chemical products | B23: =VLOOKUP(A23,'Table 1'!A:B,2,0) -> 화학제품 | D23: 5.2 | E23: 115.2 | F23: 116.7 | G23: 118.2 | H23: 119.7 | I23: 119.2 | J23: 117 | K23: 118.3 | L23: 118.8 | M23: 119.6
... A46: Energy | B46: =VLOOKUP(A46,'Table 1'!A:B,2,0) -> 에너지 | D46: 18.35 | E46: 119.2 | F46: 119.8 | G46: 120.2 | H46: 118.3 | I46: 119.5 | J46: 119.3 | K46: 120.9 | L46: 119.7 | M46: 119.7
A49: INDUSTRY GROUP | B49: =VLOOKUP(A49,'Table 1'!A:B,2,0) -> 산업그룹
A50: Manufacturing | B50: =VLOOKUP(A50,'Table 1'!A:B,2,0) -> 제조업 | D50: 74.78 | E50: 98.9 | F50: 98.5 | G50: 99.7 | H50: 100.2 | I50: 99.7 | J50: 99.9 | K50: 100.1 | L50: 100 | M50: 100.3
A51: Manufacturing (NAICS) | B51: =VLOOKUP(A51,'Table 1'!A:B,2,0) -> 제조업 (NAICS) | C51: =VLOOKUP(A51,'Table 1'!A:C,3,0) -> 31-33 | D51: 73.29 | E51: 99.6 | F51: 99.2 | G51: 100.3 | H51: 100.8 | I51: 100.4 | J51: 100.6 | K51: 100.9 | L51: 100.8 | M51: 101
A53: Durable manufacturing | B53: =VLOOKUP(A53,'Table 1'!A:B,2,0) -> 내구재 제조업 | D53: 36.99 | E53: 99.3 | F53: 99.2 | G53: 100.8 | H53: 101.3 | I53: 101 | J53: 101.6 | K53: 101.3 | L53: 101.7 | M53: 101.8
A54: Wood products | B54: =VLOOKUP(A54,'Table 1'!A:B,2,0) -> 나무제품 제조업 | C54: =VLOOKUP(A54,'Table 1'!A:C,3,0) -> 321 | D54: 1.63 | E54: 95.3 | F54: 94.7 | G54: 97 | H54: 95.5 | I54: 94.3 | J54: 95.8 | K54: 94 | L54: 94 | M54: 94.5
A55: Nonmetallic mineral products | B55: =VLOOKUP(A55,'Table 1'!A:B,2,0) -> 비금속 광물제품 제조업 | C55: =VLOOKUP(A55,'Table 1'!A:C,3,0) -> 327 | D55: 2.3 | E55: 101 | F55: 102.3 | G55: 102.9 | H55: 103.3 | I55: 100.9 | J55: 99.4 | K55: 98 | L55: 98.2 | M55: 99.4
A56: Primary metals | B56: =VLOOKUP(A56,'Table 1'!A:B,2,0) -> 1차 금속 제조업 | C56: =VLOOKUP(A56,'Table 1'!A:C,3,0) -> 331 | D56: 2.69 | E56: 93.7 | F56: 94.3 | G56: 93.5 | H56: 94.5 | I56: 94.4 | J56: 93.7 | K56: 96.4 | L56: 96.7 | M56: 97.1
A57: Fabricated metal products | B57: =VLOOKUP(A57,'Table 1'!A:B,2,0) -> 금속가공제품 제조업 | C57: =VLOOKUP(A57,'Table 1'!A:C,3,0) -> 332 | D57: 6.14 | E57: 97.9 | F57: 97.1 | G57: 97.4 | H57: 97.8 | I57: 99.2 | J57: 98.4 | K57: 98.3 | L57: 98.6 | M57: 98.5
A58: Machinery | B58: =VLOOKUP(A58,'Table 1'!A:B,2,0) -> 기계 제조업 | C58: =VLOOKUP(A58,'Table 1'!A:C,3,0) -> 333 | D58: 5.69 | E58: 99.1 | F58: 100.2 | G58: 99.8 | H58: 100.6 | I58: 100.2 | J58: 99.8 | K58: 101 | L58: 100.6 | M58: 100.1
A59: Computer and electronic products | B59: =VLOOKUP(A59,'Table 1'!A:B,2,0) -> 컴퓨터 및 전자제품 제조업 | C59: =VLOOKUP(A59,'Table 1'!A:C,3,0) -> 334 | D59: 4.43 | E59: 121.8 | F59: 123.8 | G59: 124.1 | H59: 125 | I59: 125.5 | J59: 126.1 | K59: 126.2 | L59: 127.5 | M59: 128.1
A60: Electrical equip., appliances, | B60: =VLOOKUP(A60,'Table 1'!A:B,2,0) -> 전기장비, 전기용품 및 전자부품 제조업 | C60: =VLOOKUP(A60,'Table 1'!A:C,3,0) -> 335 | D60: 2.19 | E60: 107 | F60: 106.2 | G60: 107.6 | H60: 106.6 | I60: 104.5 | J60: 107.2 | K60: 103.6 | L60: 104.2 | M60: 102.6
A61: and components | C61: =VLOOKUP(A61,'Table 1'!A:C,3,0) -> 0
A62: Motor vehicles and parts | B62: =VLOOKUP(A62,'Table 1'!A:B,2,0) -> 자동차 및 자동차부품 제조업 | C62: =VLOOKUP(A62,'Table 1'!A:C,3,0) -> 3361-3 | D62: 5.36 | E62: 100.3 | F62: 94.9 | G62: 104.4 | H62: 104.6 | I62: 103.1 | J62: 107.8 | K62: 105 | L62: 104.3 | M62: 106.9
A63: Aerospace and miscellaneous | B63: =VLOOKUP(A63,'Table 1'!A:B,2,0) -> 항공우주 및 기타 운송장비 제조업 | C63: =VLOOKUP(A63,'Table 1'!A:C,3,0) -> 3364-9 | D63: 3.01 | E63: 84.5 | F63: 89.3 | G63: 90.5 | H63: 92.2 | I63: 93.1 | J63: 93.6 | K63: 95.2 | L63: 96.6 | M63: 96
A64: transportation equipment | C64: =VLOOKUP(A64,'Table 1'!A:C,3,0) -> 0
A65: Furniture and related products | B65: =VLOOKUP(A65,'Table 1'!A:B,2,0) -> 가구 및 관련 제품 제조업 | C65: =VLOOKUP(A65,'Table 1'!A:C,3,0) -> 337 | D65: 0.96 | E65: 75.1 | F65: 75.6 | G65: 74.5 | H65: 74 | I65: 74.9 | J65: 75.3 | K65: 76.1 | L65: 77 | M65: 75.6
A66: Miscellaneous | B66: =VLOOKUP(A66,'Table 1'!A:B,2,0) -> 기타 제품 제조업 | C66: =VLOOKUP(A66,'Table 1'!A:C,3,0) -> 339 | D66: 2.59 | E66: 103.9 | F66: 103.3 | G66: 103.5 | H66: 103.9 | I66: 102.8 | J66: 101.7 | K66: 101.2 | L66: 102.2 | M66: 100.5
A68: Nondurable manufacturing | B68: =VLOOKUP(A68,'Table 1'!A:B,2,0) -> 비내구재 제조업 | D68: 36.29 | E68: 100.1 | F68: 99.2 | G68: 99.8 | H68: 100.5 | I68: 99.9 | J68: 99.8 | K68: 100.5 | L68: 100 | M68: 100.3
A69: Food, beverage, and tobacco products | B69: =VLOOKUP(A69,'Table 1'!A:B,2,0) -> 식료품, 음료 및 담배 제조업 | C69: =VLOOKUP(A69,'Table 1'!A:C,3,0) -> 311,2 | D69: 12.06 | E69: 98.9 | F69: 98.2 | G69: 98.7 | H69: 99.4 | I69: 98.8 | J69: 98.9 | K69: 99.4 | L69: 98.7 | M69: 99
A70: Textile and product mills | B70: =VLOOKUP(A70,'Table 1'!A:B,2,0) -> 섬유 및 관련 제품 제조업 | C70: =VLOOKUP(A70,'Table 1'!A:C,3,0) -> 313,4 | D70: 0.52 | E70: 78.5 | F70: 78.5 | G70: 79 | H70: 78.4 | I70: 78.4 | J70: 78.9 | K70: 78.8 | L70: 78.4 | M70: 80.3
A71: Apparel and leather | B71: =VLOOKUP(A71,'Table 1'!A:B,2,0) -> 의복 및 가죽 제조업 | C71: =VLOOKUP(A71,'Table 1'!A:C,3,0) -> 315,6 | D71: 0.17 | E71: 77 | F71: 78.2 | G71: 78.9 | H71: 79.8 | I71: 76.9 | J71: 79.1 | K71: 78.8 | L71: 77.7 | M71: 78.8
A72: Paper | B72: 종이 제조업 | C72: 322 | D72: 2.21 | E72: 86.9 | F72: 87.3 | G72: 86.3 | H72: 86.2 | I72: 85.3 | J72: 85.3 | K72: 87.2 | L72: 86.6 | M72: 86.3
A73: Printing and support | B73: =VLOOKUP(A73,'Table 1'!A:B,2,0) -> 인쇄업 및 관련 지원업 | C73: =VLOOKUP(A73,'Table 1'!A:C,3,0) -> 323 | D73: 1.35 | E73: 84.3 | F73: 84.9 | G73: 85.2 | H73: 84.3 | I73: 84.5 | J73: 84 | K73: 84.2 | L73: 83.2 | M73: 83
A74: Petroleum and coal products | B74: =VLOOKUP(A74,'Table 1'!A:B,2,0) -> 석유 및 석탄제품 제조업 | C74: =VLOOKUP(A74,'Table 1'!A:C,3,0) -> 324 | D74: 4.2 | E74: 95.2 | F74: 93.6 | G74: 93.3 | H74: 93.2 | I74: 91.9 | J74: 93.5 | K74: 94.3 | L74: 93.5 | M74: 95.1
A75: Chemicals | B75: =VLOOKUP(A75,'Table 1'!A:B,2,0) -> 의학물질 제조업 | C75: =VLOOKUP(A75,'Table 1'!A:C,3,0) -> 325 | D75: 12.11 | E75: 108.5 | F75: 107.3 | G75: 108.5 | H75: 109.5 | I75: 109.3 | J75: 108.2 | K75: 109.3 | L75: 109.5 | M75: 109.8
A76: Plastics and rubber products | B76: =VLOOKUP(A76,'Table 1'!A:B,2,0) -> 플라스틱 및 고무제품 제조업 | C76: =VLOOKUP(A76,'Table 1'!A:C,3,0) -> 326 | D76: 3.67 | E76: 98.3 | F76: 97.2 | G76: 98.7 | H76: 100.3 | I76: 100 | J76: 99.5 | K76: 99.2 | L76: 97.7 | M76: 97
A78: Other manufacturing (non-NAICS) | B78: =VLOOKUP(A78,'Table 1'!A:B,2,0) -> 기타 제조업 (비 NAICS) | C78: =VLOOKUP(A78,'Table 1'!A:C,3,0) -> 1133,5111 | D78: 1.5 | E78: 73.4 | F78: 74.8 | G78: 77 | H78: 76.2 | I78: 74.1 | J78: 72.5 | K78: 72.9 | L78: 72.3 | M78: 72.5
A80: Mining | B80: =VLOOKUP(A80,'Table 1'!A:B,2,0) -> 광업 | C80: =VLOOKUP(A80,'Table 1'!A:C,3,0) -> 21 | D80: 14.37 | E80: 120.7 | F80: 117.8 | G80: 119.5 | H80: 121.4 | I80: 121.2 | J80: 121.5 | K80: 122.1 | L80: 120.3 | M80: 121.4
A81: Utilities | B81: =VLOOKUP(A81,'Table 1'!A:B,2,0) -> 유틸리티업 | C81: =VLOOKUP(A81,'Table 1'!A:C,3,0) -> 2211,2 | D81: 10.85 | E81: 108.8 | F81: 113.7 | G81: 112.8 | H81: 103.5 | I81: 107.8 | J81: 106.6 | K81: 109.4 | L81: 108.6 | M81: 106.4
A82: Electric | B82: =VLOOKUP(A82,'Table 1'!A:B,2,0) -> 전기 | C82: =VLOOKUP(A82,'Table 1'!A:C,3,0) -> 2211 | D82: 9.54 | E82: 108 | F82: 112.8 | G82: 111.8 | H82: 104.3 | I82: 107.9 | J82: 106.6 | K82: 108.9 | L82: 108.7 | M82: 106.2
A83: Natural gas | B83: =VLOOKUP(A83,'Table 1'!A:B,2,0) -> 천연가스 | C83: =VLOOKUP(A83,'Table 1'!A:C,3,0) -> 2212 | D83: 1.31 | E83: 114.2 | F83: 119.6 | G83: 119 | H83: 97.2 | I83: 106 | J83: 105.7 | K83: 112.2 | L83: 106.7 | M83: 106.9
A84: [r] Revised. [p] Preliminary.
A85: =HLOOKUP(A84,'Table 2'!63:64,2,0) -> r 개정됨. p 잠정치.
A87: Note. Refer to the notes for table 1.
A88: 참고. 표 1의 참고 사항을 참조하세요.

Sheet Table 5
A1: Table 5 Industrial Production Indexes: Special Aggregates
A2: 산업생산지수: 특수집합
A4: 2017 = 100, seasonally adjusted
A5: 2017=100, 계절조정계열
A6: Item | C6: NAICS | D6: 2024 | E6: 2024 | F6: 2025
B7: 품목 | D7: Proportion 2024. 비율 | E7: Dec. | F7: Jan. | G7: Feb. | H7: Mar.[r] | I7: Apr.[r] | J7: May[r] | K7: June[r] | L7: July[r] | M7: Aug.[p]
A9: Total industry | B9: =VLOOKUP(A9,'Table 2'!A:B,2,0) -> 전산업 | D9: 100 | E9: 103 | F9: 102.9 | G9: 103.9 | H9: 103.5 | I9: 103.6 | J9: 103.7 | K9: 104.2 | L9: 103.8 | M9: 103.9
A11: Energy | B11: =VLOOKUP(A11,'Table 2'!A:B,2,0) -> 에너지 | D11: 27.31 | E11: 114.8 | F11: 115.8 | G11: 115.6 | H11: 112.5 | I11: 114.2 | J11: 114 | K11: 115.4 | L11: 114.5 | M11: 114.4
A12: Consumer products | B12: =VLOOKUP(A12,'Table 2'!A:B,2,0) -> 소비재 | D12: 5.6 | E12: 103.8 | F12: 106 | G12: 104.6 | H12: 97.7 | I12: 100.5 | J12: 99.9 | K12: 101.4 | L12: 101.4 | M12: 101.4
A13: Commercial products | B13: =VLOOKUP(A13,'Table 2'!A:B,2,0) -> 상업용 제품 | D13: 2.82 | E13: 114.4 | F13: 115.5 | G13: 114.3 | H13: 111.2 | I13: 114.1 | J13: 115.5 | K13: 116.6 | L13: 115.6 | M13: 114.1
A14: Oil and gas well drilling | B14: =VLOOKUP(A14,'Table 2'!A:B,2,0) -> 석유 및 가스 시추 | C14: =VLOOKUP(A14,'Table 2'!A:C,3,0) -> 213111 | D14: 0.54 | E14: 99.6 | F14: 98.6 | G14: 99.1 | H14: 100 | I14: 98.2 | J14: 95.7 | K14: 95.1 | L14: 93.1 | M14: 95
A15: Converted fuel | B15: =VLOOKUP(A15,'Table 2'!A:B,2,0) -> 전환 연료 | D15: 5.3 | E15: 114.7 | F15: 119 | G15: 119.6 | H15: 109.6 | I15: 112.2 | J15: 113.3 | K15: 115.5 | L15: 115.4 | M15: 113.9
A16: Primary energy | B16: =VLOOKUP(A16,'Table 2'!A:B,2,0) -> 1차 에너지 | D16: 13.05 | E16: 120.5 | F16: 119.5 | G16: 119.8 | H16: 121.5 | I16: 122 | J16: 121.3 | K16: 122.6 | L16: 120.8 | M16: 121.6
A18: Non-energy | B18: =VLOOKUP(A18,'Table 2'!A:B,2,0) -> 비에너지 | D18: 72.69 | E18: 98.8 | F18: 98.3 | G18: 99.7 | H18: 100.2 | I18: 99.8 | J18: 99.9 | K18: 100.2 | L18: 100 | M18: 100.1
A19: Selected high-technology industries | B19: =VLOOKUP(A19,'Table 2'!A:B,2,0) -> 특정 첨단기술 산업 | D19: 1.89 | E19: 158.9 | F19: 164.2 | G19: 165.5 | H19: 164.9 | I19: 169.1 | J19: 171.6 | K19: 170.9 | L19: 178.4 | M19: 178.2
A20: Computers and peripheral equipment | B20: =VLOOKUP(A20,'Table 2'!A:B,2,0) -> 컴퓨터 및 주변 장치 | C20: =VLOOKUP(A20,'Table 2'!A:C,3,0) -> 3341 | D20: 0.23 | E20: 175.2 | F20: 178.4 | G20: 179.5 | H20: 178.5 | I20: 179.3 | J20: 186.2 | K20: 185.1 | L20: 191.4 | M20: 186.7
A21: Communications equipment | B21: =VLOOKUP(A21,'Table 2'!A:B,2,0) -> 통신 장비 | C21: =VLOOKUP(A21,'Table 2'!A:C,3,0) -> 3342 | D21: 0.41 | E21: 200.9 | F21: 202.3 | G21: 203.4 | H21: 204.3 | I21: 205.4 | J21: 206.2 | K21: 207.2 | L21: 208.2 | M21: 209.3
A22: Semiconductors and related | B22: =VLOOKUP(A22,'Table 2'!A:B,2,0) -> 반도체 및 관련 전자부품 | C22: =VLOOKUP(A22,'Table 2'!A:C,3,0) -> 3344 | D22: 1.26 | E22: 144.6 | F22: 151.1 | G22: 152.4 | H22: 151.5 | I22: 156.9 | J22: 159.1 | K22: 158 | L22: 167.1 | M22: 167.4
A23: electronic components | C23: =VLOOKUP(A23,'Table 2'!A:C,3,0) -> 0
A25: Excluding selected high-technology | B25: =VLOOKUP(A25,'Table 2'!A:B,2,0) -> 특정 첨단기술 산업 제외 | D25: 70.79 | E25: 97.4 | F25: 96.8 | G25: 98.1 | H25: 98.7 | I25: 98.2 | J25: 98.3 | K25: 98.5 | L25: 98.2 | M25: 98.4
A26: industries
A28: Motor vehicles and parts | B28: =VLOOKUP(A28,'Table 2'!A:B,2,0) -> 자동차 및 자동차부품 | C28: =VLOOKUP(A28,'Table 2'!A:C,3,0) -> 3361-3 | D28: 5.36 | E28: 100.3 | F28: 94.9 | G28: 104.4 | H28: 104.6 | I28: 103.1 | J28: 107.8 | K28: 105 | L28: 104.3 | M28: 106.9
A29: Motor vehicles | B29: =VLOOKUP(A29,'Table 2'!A:B,2,0) -> 자동차 | C29: =VLOOKUP(A29,'Table 2'!A:C,3,0) -> 3361 | D29: 2.54 | E29: 107.9 | F29: 99.2 | G29: 114.6 | H29: 114.5 | I29: 112.4 | J29: 121.2 | K29: 115.3 | L29: 115.6 | M29: 120.8
A30: Motor vehicle parts | B30: =VLOOKUP(A30,'Table 2'!A:B,2,0) -> 자동차부품 | C30: =VLOOKUP(A30,'Table 2'!A:C,3,0) -> 3363 | D30: 2.3 | E30: 97.5 | F30: 93.6 | G30: 99 | H30: 98.6 | I30: 98 | J30: 101.4 | K30: 100.3 | L30: 98.8 | M30: 100.6
A32: Excluding motor vehicles and parts | B32: =VLOOKUP(A32,'Table 2'!A:B,2,0) -> 자동차 및 자동차부품 제외 | D32: 65.43 | E32: 97.2 | F32: 96.9 | G32: 97.7 | H32: 98.3 | I32: 97.9 | J32: 97.6 | K32: 98.1 | L32: 97.8 | M32: 97.7
A33: Consumer goods | B33: =VLOOKUP(A33,'Table 2'!A:B,2,0) -> 소비재 | D33: 19.37 | E33: 100.3 | F33: 100.3 | G33: 101 | H33: 101.8 | I33: 100.9 | J33: 100.4 | K33: 101 | L33: 100.7 | M33: 101
A34: Business equipment | B34: =VLOOKUP(A34,'Table 2'!A:B,2,0) -> 사무용 장비 | D34: 7.28 | E34: 86.6 | F34: 88.5 | G34: 89.3 | H34: 90.8 | I34: 91.2 | J34: 91.4 | K34: 91.9 | L34: 92.2 | M34: 91.6
A35: Construction supplies | B35: =VLOOKUP(A35,'Table 2'!A:B,2,0) -> 건설용 자재 | D35: 5.22 | E35: 101.3 | F35: 100.8 | G35: 102.3 | H35: 103.2 | I35: 101.7 | J35: 101.7 | K35: 101.8 | L35: 100.9 | M35: 101.5
A36: Business supplies | B36: =VLOOKUP(A36,'Table 2'!A:B,2,0) -> 사무용 자재 | D36: 7.31 | E36: 95.7 | F36: 95.9 | G36: 96.4 | H36: 96.8 | I36: 95.9 | J36: 95.3 | K36: 95.4 | L36: 94.4 | M36: 94.3
A37: Materials | B37: =VLOOKUP(A37,'Table 2'!A:B,2,0) -> 자재 | D37: 24.45 | E37: 96.4 | F37: 95.1 | G37: 95.8 | H37: 96.1 | I37: 96 | J37: 95.8 | K37: 96.4 | L37: 96.2 | M37: 96.1
A39: Measures excluding selected high-technology | B39: =IF(A40='Table 2'!A43,VLOOKUP(A39,'Table 2'!A:B,2,0)) -> 특정 첨단기술 산업 제외
A40: industries | B40: =VLOOKUP(A40,'Table 2'!A:B,2,0) -> 0
A41: Total industry | B41: =VLOOKUP(A41,'Table 2'!A:B,2,0) -> 전산업 | D41: 98.11 | E41: 102 | F41: 101.8 | G41: 102.8 | H41: 102.5 | I41: 102.5 | J41: 102.5 | K41: 103.1 | L41: 102.6 | M41: 102.7
A42: Manufacturing[1] | B42: =VLOOKUP(A42,'Table 2'!A:B,2,0) -> 제조업 | D42: 72.89 | E42: 97.6 | F42: 97 | G42: 98.2 | H42: 98.7 | I42: 98.2 | J42: 98.3 | K42: 98.6 | L42: 98.4 | M42: 98.6
A43: Durable | B43: =VLOOKUP(A43,'Table 2'!A:B,2,0) -> 내구재 | D43: 35.23 | E43: 96.4 | F43: 96.2 | G43: 97.7 | H43: 98.2 | I43: 97.8 | J43: 98.3 | K43: 98.1 | L43: 98.2 | M43: 98.3
A45: Measures excluding motor vehicles and parts | B45: =VLOOKUP(A45,'Table 2'!A:B,2,0) -> 자동차 및 자동차부품 제외
A46: Total industry | B46: =VLOOKUP(A46,'Table 2'!A:B,2,0) -> 전산업 | D46: 94.64 | E46: 103.2 | F46: 103.4 | G46: 103.9 | H46: 103.5 | I46: 103.7 | J46: 103.5 | K46: 104.2 | L46: 103.8 | M46: 103.8
A47: Manufacturing[1] | B47: =VLOOKUP(A47,'Table 2'!A:B,2,0) -> 제조업 | D47: 69.42 | E47: 98.9 | F47: 98.8 | G47: 99.3 | H47: 99.9 | I47: 99.5 | J47: 99.3 | K47: 99.8 | L47: 99.8 | M47: 99.8
A48: Durable | B48: =VLOOKUP(A48,'Table 2'!A:B,2,0) -> 내구재 | D48: 31.76 | E48: 99.1 | F48: 99.9 | G48: 100.2 | H48: 100.7 | I48: 100.6 | J48: 100.5 | K48: 100.7 | L48: 101.2 | M48: 100.9
A50: Measures excluding selected high-technology | B50: =IF(A51='Table 2'!A54,VLOOKUP(A50,'Table 2'!A:B,2,0)) -> 특정 첨단기술 산업 제외
A51: industries and motor vehicles and parts | B51: =VLOOKUP(A51,'Table 2'!A:B,2,0) -> 0
A52: Total industry | B52: =VLOOKUP(A52,'Table 2'!A:B,2,0) -> 전산업 | D52: 92.74 | E52: 102.2 | F52: 102.3 | G52: 102.8 | H52: 102.4 | I52: 102.5 | J52: 102.3 | K52: 103 | L52: 102.5 | M52: 102.5
A53: Manufacturing[1] | B53: =VLOOKUP(A53,'Table 2'!A:B,2,0) -> 제조업 | D53: 67.53 | E53: 97.4 | F53: 97.2 | G53: 97.7 | H53: 98.3 | I53: 97.9 | J53: 97.6 | K53: 98.1 | L53: 97.9 | M53: 98
A55: Stage-of-process components | B55: =IF(A57='Table 2'!A60,IF(A56='Table 2'!A59,VLOOKUP(A55,'Table 2'!A:B,2,0))) -> 비에너지 자재의 공정단계 구성요소, 투입
A56: of non-energy materials,
A57: measures of the input to
A58: Finished processors | B58: =VLOOKUP(A58,'Table 2'!A:B,2,0) -> 완제품 가공업체 | D58: 9.34 | E58: 97.1 | F58: 96.8 | G58: 98.2 | H58: 98.3 | I58: 98 | J58: 99 | K58: 99 | L58: 99.4 | M58: 99.7
A59: Primary and semifinished processors | B59: =VLOOKUP(A59,'Table 2'!A:B,2,0) -> 1차 및 반제품 가공업체 | D59: 17.87 | E59: 98.8 | F59: 97.1 | G59: 97.9 | H59: 98.3 | I59: 98.4 | J59: 98.1 | K59: 98.8 | L59: 98.3 | M59: 98.3
A60: [r] Revised. [p] Preliminary.
A61: =HLOOKUP(A60,'Table 4'!84:85,2,0) -> r 개정됨. p 잠정치.
A63: [1] The composition of manufacturing is specified in a note for the summary table.
A64: =HLOOKUP(fn5_5_1,'Table 2'!66:67,2,0) -> 1. 제조업 구성은 요약표의 주석에 명시되어 있습니다.
